BEGIN:VCALENDAR
VERSION:2.0
PRODID:-//Tukios.com/
BEGIN:VEVENT
UID:f9654fcb-ce69-40c8-b2ce-2e3b69e091bd@www.russonmortuary.com
DTSTAMP:20260423T174641Z
DTSTART:20260425T200000Z
DTEND:20260425T210000Z
SUMMARY:Graveside Service
DESCRIPTION:
URL:https://www.russonmortuary.com/obituaries/stephen-lloyd-smith
LOCATION:Memorial Lakeview Cemetery 1640 East Lakeview Drive South  
	Bountiful UT 84010
GEO:40.8821824;-111.8547414
END:VEVENT
END:VCALENDAR