BEGIN:VCALENDAR
VERSION:2.0
PRODID:-//Tukios.com/
BEGIN:VEVENT
UID:a82225a9-c59f-4c44-851e-99b0acdc2781@www.russonmortuary.com
DTSTAMP:20260423T174712Z
DTSTART:20260425T180000Z
DTEND:20260425T193000Z
SUMMARY:Viewing
DESCRIPTION:
URL:https://www.russonmortuary.com/obituaries/stephen-lloyd-smith
LOCATION:Russon Mortuary 295 North Main Street  Bountiful UT 84010
GEO:40.8921719;-111.8811571
END:VEVENT
END:VCALENDAR