BEGIN:VCALENDAR
VERSION:2.0
PRODID:-//Tukios.com/
BEGIN:VEVENT
UID:68e86c3b-ab9b-4329-9820-eab3c44ce636@www.russonmortuary.com
DTSTAMP:20260420T200504Z
DTSTART:20260424T170000Z
DTEND:20260424T180000Z
SUMMARY:Funeral Service
DESCRIPTION:
URL:https://www.russonmortuary.com/obituaries/nicholas-miner
LOCATION:The Church of Jesus Christ of Latter-day Saints Meetinghouse 695 
	S 200 E  Farmington UT 84025
GEO:40.9685437;-111.8827682
END:VEVENT
END:VCALENDAR