BEGIN:VCALENDAR
VERSION:2.0
PRODID:-//Tukios.com/
BEGIN:VEVENT
UID:eb1c51f6-886b-49a5-a6a3-a320082c5119@www.russonmortuary.com
DTSTAMP:20260420T200845Z
DTSTART:20260424T153000Z
DTEND:20260424T164500Z
SUMMARY:Viewing
DESCRIPTION:
URL:https://www.russonmortuary.com/obituaries/nicholas-miner
LOCATION:The Church of Jesus Christ of Latter-day Saints Meetinghouse 695 
	S 200 E  Farmington UT 84025
GEO:40.9685437;-111.8827682
END:VEVENT
END:VCALENDAR