BEGIN:VCALENDAR
VERSION:2.0
PRODID:-//Tukios.com/
BEGIN:VEVENT
UID:9740c921-39e6-48cb-afbe-4454cf689057@www.russonmortuary.com
DTSTAMP:20260425T193046Z
DTSTART:20260429T000000Z
DTEND:20260429T020000Z
SUMMARY:Viewing
DESCRIPTION:
URL:https://www.russonmortuary.com/obituaries/melvin-sudweeks
LOCATION: 295 N. Main St.  Bountiful UT 84010
GEO:40.8921788;-111.8812037
END:VEVENT
END:VCALENDAR