BEGIN:VCALENDAR
VERSION:2.0
PRODID:-//Tukios.com/
BEGIN:VEVENT
UID:eac1ce3e-eaae-4fb3-9f53-32b93614a29b@www.russonmortuary.com
DTSTAMP:20260424T014122Z
DTSTART:20260427T160000Z
DTEND:20260427T170000Z
SUMMARY:Funeral Service
DESCRIPTION:
URL:https://www.russonmortuary.com/obituaries/mary-timothy
LOCATION:Russon Mortuary 295 North Main Street  Bountiful UT 84010
GEO:40.8921719;-111.8811571
END:VEVENT
END:VCALENDAR