BEGIN:VCALENDAR
VERSION:2.0
PRODID:-//Tukios.com/
BEGIN:VEVENT
UID:170182c2-91dc-4a94-9be0-9340642bdbdf@www.russonmortuary.com
DTSTAMP:20260424T013653Z
DTSTART:20260427T143000Z
DTEND:20260427T153000Z
SUMMARY:Viewing
DESCRIPTION:
URL:https://www.russonmortuary.com/obituaries/mary-timothy
LOCATION:Russon Mortuary 295 North Main Street  Bountiful UT 84010
GEO:40.8921719;-111.8811571
END:VEVENT
END:VCALENDAR