BEGIN:VCALENDAR
VERSION:2.0
PRODID:-//Tukios.com/
BEGIN:VEVENT
UID:f0039de2-5ae8-44ea-a5a2-e86fc770c8de@www.russonmortuary.com
DTSTAMP:20260424T014033Z
DTSTART:20260427T000000Z
DTEND:20260427T020000Z
SUMMARY:Viewing
DESCRIPTION:
URL:https://www.russonmortuary.com/obituaries/mary-timothy
LOCATION:Russon Mortuary 295 North Main Street  Bountiful UT 84010
GEO:40.8921719;-111.8811571
END:VEVENT
END:VCALENDAR