BEGIN:VCALENDAR
VERSION:2.0
PRODID:-//Tukios.com/
BEGIN:VEVENT
UID:a60b511c-1186-4014-a28e-3f3da97c1e48@www.russonmortuary.com
DTSTAMP:20260424T203808Z
DTSTART:20260429T170000Z
DTEND:20260429T180000Z
SUMMARY:Funeral Service
DESCRIPTION:
URL:https://www.russonmortuary.com/obituaries/linda-zeeman
LOCATION:Church of Jesus Christ of Latter-day Saints 610 Rowland Way  
	Centerville UT 84014
GEO:40.9241608;-111.8771213
END:VEVENT
END:VCALENDAR