BEGIN:VCALENDAR
VERSION:2.0
PRODID:-//Tukios.com/
BEGIN:VEVENT
UID:4cbdf794-5a7a-4dff-b024-daf4b1cd8501@www.russonmortuary.com
DTSTAMP:20260424T203428Z
DTSTART:20260429T154500Z
DTEND:20260429T164500Z
SUMMARY:Viewing
DESCRIPTION:
URL:https://www.russonmortuary.com/obituaries/linda-zeeman
LOCATION:Church of Jesus Christ of Latter-day Saints 610 Rowland Way  
	Centerville UT 84014
GEO:40.9241608;-111.8771213
END:VEVENT
END:VCALENDAR