BEGIN:VCALENDAR
VERSION:2.0
PRODID:-//Tukios.com/
BEGIN:VEVENT
UID:c512f798-efbb-46f9-8004-f2444ea43355@www.russonmortuary.com
DTSTAMP:20260421T213045Z
DTSTART:20260502T170000Z
DTEND:20260502T180000Z
SUMMARY:Graveside Service
DESCRIPTION:
URL:https://www.russonmortuary.com/obituaries/janeth-stevens
LOCATION:Kaysville Cemetery Kaysville City Cemetery  Kaysville UT 84037
GEO:41.0449295;-111.9272713
END:VEVENT
END:VCALENDAR