BEGIN:VCALENDAR
VERSION:2.0
PRODID:-//Tukios.com/
BEGIN:VEVENT
UID:ecce7287-37d0-4834-88b0-49fdf6e77721@www.russonmortuary.com
DTSTAMP:20260421T212517Z
DTSTART:20260502T160000Z
DTEND:20260502T170000Z
SUMMARY:Viewing
DESCRIPTION:
URL:https://www.russonmortuary.com/obituaries/janeth-stevens
LOCATION:Russon Brothers Mortuary 1941 North Main Street  Farmington UT 
	84025
GEO:41.0116951;-111.9142559
END:VEVENT
END:VCALENDAR