BEGIN:VCALENDAR
VERSION:2.0
PRODID:-//Tukios.com/
BEGIN:VEVENT
UID:f9b76a69-02ac-4200-970e-8bd8ed476cc9@www.russonmortuary.com
DTSTAMP:20260422T010201Z
DTSTART:20260430T170000Z
DTEND:20260430T180000Z
SUMMARY:Funeral Service
DESCRIPTION:
URL:https://www.russonmortuary.com/obituaries/geraldean-robbins
LOCATION:Centerville 3rd Ward 900 South 400 East  Centerville UT 84014
GEO:40.907511;-111.8731049
END:VEVENT
END:VCALENDAR