BEGIN:VCALENDAR
VERSION:2.0
PRODID:-//Tukios.com/
BEGIN:VEVENT
UID:5f4359d2-de68-4ee5-8192-1e5c3bac73c8@www.russonmortuary.com
DTSTAMP:20260422T005904Z
DTSTART:20260430T160000Z
DTEND:20260430T164500Z
SUMMARY:Viewing
DESCRIPTION:
URL:https://www.russonmortuary.com/obituaries/geraldean-robbins
LOCATION:Centerville 3rd Ward 900 South 400 East  Centerville UT 84014
GEO:40.907511;-111.8731049
END:VEVENT
END:VCALENDAR