BEGIN:VCALENDAR
VERSION:2.0
PRODID:-//Tukios.com/
BEGIN:VEVENT
UID:104995af-cff5-4b08-81a0-a38a7abf02f9@www.russonmortuary.com
DTSTAMP:20260422T010642Z
DTSTART:20260430T000000Z
DTEND:20260430T020000Z
SUMMARY:Viewing
DESCRIPTION:
URL:https://www.russonmortuary.com/obituaries/geraldean-robbins
LOCATION: 295 N. Main St.  Bountiful UT 84010
GEO:40.8921788;-111.8812037
END:VEVENT
END:VCALENDAR