BEGIN:VCALENDAR
VERSION:2.0
PRODID:-//Tukios.com/
BEGIN:VEVENT
UID:d07b511b-711a-48bd-a942-ca023a38cfeb@www.russonmortuary.com
DTSTAMP:20260426T020100Z
DTSTART:20260428T180000Z
DTEND:20260428T200000Z
SUMMARY:Visitation
DESCRIPTION:
URL:https://www.russonmortuary.com/obituaries/edwin-lee
LOCATION: 1585 W. 300 S.  Syracuse UT 84075
GEO:41.1100498;-112.0566542
END:VEVENT
END:VCALENDAR