BEGIN:VCALENDAR
VERSION:2.0
PRODID:-//Tukios.com/
BEGIN:VEVENT
UID:cc0e5248-79e1-44df-a87b-b8b95013671b@www.russonmortuary.com
DTSTAMP:20260420T190322Z
DTSTART:20260424T154500Z
DTEND:20260424T164500Z
SUMMARY:Viewing
DESCRIPTION:
URL:https://www.russonmortuary.com/obituaries/drew-stayner
LOCATION: 272 N Main St  Farmington UT 84025
GEO:40.9848329;-111.8869158
END:VEVENT
END:VCALENDAR