BEGIN:VCALENDAR
VERSION:2.0
PRODID:-//Tukios.com/
BEGIN:VEVENT
UID:d9e06499-55fc-43b9-b579-fa2003eddbab@www.russonmortuary.com
DTSTAMP:20260420T190517Z
DTSTART:20260424T000000Z
DTEND:20260424T020000Z
SUMMARY:Viewing
DESCRIPTION:
URL:https://www.russonmortuary.com/obituaries/drew-stayner
LOCATION: 1941 N. Main St.  Farmington UT 84025
GEO:41.0116951;-111.9142559
END:VEVENT
END:VCALENDAR