BEGIN:VCALENDAR
VERSION:2.0
PRODID:-//Tukios.com/
BEGIN:VEVENT
UID:041a7f59-b818-4e20-92c4-cfcc12bfeaf5@www.russonmortuary.com
DTSTAMP:20260424T075443Z
DTSTART:20260425
SUMMARY:Interment
DESCRIPTION:
URL:https://www.russonmortuary.com/obituaries/donald-muhlestein
LOCATION: 500 E Crestwood Rd  Kaysville UT 84037
GEO:41.04646;-111.9279709
END:VEVENT
END:VCALENDAR