BEGIN:VCALENDAR
VERSION:2.0
PRODID:-//Tukios.com/
BEGIN:VEVENT
UID:9783b4e7-9663-4c72-a69d-bdd5d4e24bd9@www.russonmortuary.com
DTSTAMP:20260422T175338Z
DTSTART:20260425T153000Z
DTEND:20260425T163000Z
SUMMARY:Viewing
DESCRIPTION:
URL:https://www.russonmortuary.com/obituaries/donald-muhlestein
LOCATION:Kaysville South Stake Center 900 S Main St  Kaysville UT 84037
GEO:41.020887;-111.9250581
END:VEVENT
END:VCALENDAR