BEGIN:VCALENDAR
VERSION:2.0
PRODID:-//Tukios.com/
BEGIN:VEVENT
UID:d002f0d3-4b21-43ee-a048-8ef9c16eeb01@www.russonmortuary.com
DTSTAMP:20260422T174855Z
DTSTART:20260425T000000Z
DTEND:20260425T020000Z
SUMMARY:Viewing
DESCRIPTION:
URL:https://www.russonmortuary.com/obituaries/donald-muhlestein
LOCATION:Russon Brothers Mortuary 1941 North Main Street  Farmington UT 
	84025
GEO:41.0116951;-111.9142559
END:VEVENT
END:VCALENDAR