BEGIN:VCALENDAR
VERSION:2.0
PRODID:-//Tukios.com/
BEGIN:VEVENT
UID:96a3a08f-4a7e-4cf3-8c3e-98c3ca6ff293@www.russonmortuary.com
DTSTAMP:20260423T172949Z
DTSTART:20260425T170000Z
DTEND:20260425T180000Z
SUMMARY:Funeral Service
DESCRIPTION:
URL:https://www.russonmortuary.com/obituaries/devere-watkins
LOCATION:Kaysville 17th Ward Chapel 875 East 200 North  Kaysville UT 
	84037
GEO:41.0396749;-111.9193746
END:VEVENT
END:VCALENDAR