BEGIN:VCALENDAR
VERSION:2.0
PRODID:-//Tukios.com/
BEGIN:VEVENT
UID:72cf6351-9b89-482b-a2e5-9dcccb873e35@www.russonmortuary.com
DTSTAMP:20260423T172924Z
DTSTART:20260425T154500Z
DTEND:20260425T164500Z
SUMMARY:Viewing
DESCRIPTION:
URL:https://www.russonmortuary.com/obituaries/devere-watkins
LOCATION:Kaysville 17th Ward Chapel 875 East 200 North  Kaysville UT 
	84037
GEO:41.0397823;-111.9194591
END:VEVENT
END:VCALENDAR