BEGIN:VCALENDAR
VERSION:2.0
PRODID:-//Tukios.com/
BEGIN:VEVENT
UID:01d36558-d3a8-4a46-bac7-7978e6d02bb4@www.russonmortuary.com
DTSTAMP:20260423T201841Z
DTSTART:20260425T180000Z
DTEND:20260425T190000Z
SUMMARY:Funeral Service
DESCRIPTION:
URL:https://www.russonmortuary.com/obituaries/bonnie-bigelow
LOCATION: 1941 N. Main St.  Farmington UT 84025
GEO:41.0116951;-111.9142559
END:VEVENT
END:VCALENDAR