BEGIN:VCALENDAR
VERSION:2.0
PRODID:-//Tukios.com/
BEGIN:VEVENT
UID:6da7699c-7206-4526-944b-fb199fbd466f@www.russonmortuary.com
DTSTAMP:20260423T202019Z
DTSTART:20260425T153000Z
DTEND:20260425T170000Z
SUMMARY:Viewing & Celebration of Life
DESCRIPTION:
URL:https://www.russonmortuary.com/obituaries/bonnie-bigelow
LOCATION: 1941 N. Main St.  Farmington UT 84025
GEO:41.0116951;-111.9142559
END:VEVENT
END:VCALENDAR