BEGIN:VCALENDAR
VERSION:2.0
PRODID:-//Tukios.com/
BEGIN:VEVENT
UID:f37aabe2-c8f6-4b5f-be09-f8243dba3ad1@www.russonmortuary.com
DTSTAMP:20260422T192430Z
DTSTART:20260427T170000Z
DTEND:20260427T180000Z
SUMMARY:Funeral Service
DESCRIPTION:
URL:https://www.russonmortuary.com/obituaries/allyson-smith
LOCATION:LDS Chapel 668 2nd Avenue  Salt Lake City UT 84103
GEO:40.7712398;-111.869062
END:VEVENT
END:VCALENDAR