BEGIN:VCALENDAR
VERSION:2.0
PRODID:-//Tukios.com/
BEGIN:VEVENT
UID:cc3f7fdd-2c0f-4732-b9b1-947f85910ffe@www.russonmortuary.com
DTSTAMP:20260422T191833Z
DTSTART:20260424T153000Z
DTEND:20260424T164500Z
SUMMARY:Visitation
DESCRIPTION:
URL:https://www.russonmortuary.com/obituaries/allyson-smith
LOCATION:LDS Chapel 668 2nd Avenue  Salt Lake City UT 84103
GEO:40.7712398;-111.869062
END:VEVENT
END:VCALENDAR